BEGIN:VCALENDAR
VERSION:2.0
PRODID:-//Library Market//iCal Export//EN
BEGIN:VEVENT
SUMMARY:Classic Cinema: No Time for Sergeants
UID:17600
DTSTAMP:20260422T111400Z
DTSTART:20260522T180000Z
DTEND:20260522T200000Z
LOCATION:3520 86th St, Urbandale, IA 50322, United States
ROOM: ICN Room
DESCRIPTION:No Time for Sergeants (1958 â€§ Comedy/War â€§ 1h 59m â€§ NR)Â
  Will Stockdale (Andy Griffith) is a country bumpkin from Georgia who is d
 rafted into the United States Air Force and is oblivious to the fact that 
 he is driving everyone around him crazy, no one more so than Sergeant King
 .Â 
URL:https://urbandale.librarycalendar.com/event/classic-cinema-17600
END:VEVENT
END:VCALENDAR
