BEGIN:VCALENDAR
VERSION:2.0
PRODID:-//Library Market//iCal Export//EN
BEGIN:VEVENT
SUMMARY:Classic Cinema: Sergeant York
UID:17601
DTSTAMP:20260423T003000Z
DTSTART:20260508T180000Z
DTEND:20260508T201500Z
LOCATION:3520 86th St, Urbandale, IA 50322, United States
ROOM: ICN Room
DESCRIPTION:Sergeant York (1941 ‧ War/Biographical ‧ 2h 14m ‧ NR) A
  Tennessee farmer and marksman is drafted in World War I and struggles wit
 h his pacifist inclinations before becoming one of the most celebrated war
  heroes.Nominated for 11 Oscars and winner of 2, including Gary Cooper for
  Best Actor in a Leading Role.
URL:https://urbandale.librarycalendar.com/event/classic-cinema-17601
END:VEVENT
END:VCALENDAR
