BEGIN:VCALENDAR
VERSION:2.0
PRODID:-//Library Market//iCal Export//EN
BEGIN:VEVENT
SUMMARY:TED Democracy LIVE: Founding Futures
UID:18947
DTSTAMP:20260420T233400Z
DTSTART:20260613T150000Z
DTEND:20260613T161500Z
LOCATION:3520 86th St, Urbandale, IA 50322, United States
ROOM: ICN Room
DESCRIPTION:Join us for a livestream of TED Democracy Philadelphia: Foundi
 ng Futures, a daylong symposium featuring 15+ original TED Talks focused o
 n the future of democracy.Streaming live from Philadelphia leading up to A
 merica’s 250th birthday celebrations, this landmark event convenes bold 
 thinkers and civic leaders to share ideas and solutions designed to inform
  and inspire.Through a collaboration with Visit Philadelphia and the Ameri
 can Library Association, and sponsored by The Pew Charitable Trusts, libra
 ries across the country are hosting satellite livestream events — expand
 ing access to these critical conversations and fostering local engagement 
 nationwide.We’re proud to serve as a host site and bring this important 
 civic moment to our local community.
URL:https://urbandale.librarycalendar.com/event/ted-democracy-live
END:VEVENT
END:VCALENDAR
