BEGIN:VCALENDAR
VERSION:2.0
PRODID:-//Library Market//iCal Export//EN
BEGIN:VEVENT
SUMMARY:DART New Routes Open House
UID:22364
DTSTAMP:20260422T111400Z
DTSTART:20260527T210000Z
DTEND:20260527T230000Z
LOCATION:3520 86th St, Urbandale, IA 50322, United States
ROOM: Meeting Room A/B
DESCRIPTION:The countdown is on – DART will change all bus routes in Jun
 e to provide service that runs more often all week long! Join us for an o
 pen house style event and chat with DART staff about the new routes or rec
 eive support in trip planning. DART will provide printed materials and lig
 ht snacks and refreshments. 
URL:https://urbandale.librarycalendar.com/event/hold-dart-22364
END:VEVENT
END:VCALENDAR
