BEGIN:VCALENDAR
VERSION:2.0
PRODID:-//Library Market//iCal Export//EN
BEGIN:VEVENT
SUMMARY:Afterschool Fun LEGO: Build a Jedi Training Facility
UID:25913
DTSTAMP:20260426T034700Z
DTSTART:20260505T211500Z
DTEND:20260505T221500Z
LOCATION:3520 86th St, Urbandale, IA 50322, United States
ROOM: Story Room
DESCRIPTION:This month, we challenge you to build a Jedi Training Facility
  for Baby Yoda, or a hideout to keep him safe. The choice is yours, and Ma
 y the 4th be with you!  
URL:https://urbandale.librarycalendar.com/event/afterschool-fun-25913
END:VEVENT
END:VCALENDAR
