BEGIN:VCALENDAR
VERSION:2.0
PRODID:-//Library Market//iCal Export//EN
BEGIN:VEVENT
SUMMARY:Afterschool Fun: Board Games!
UID:25916
DTSTAMP:20260422T212400Z
DTSTART:20260526T211500Z
DTEND:20260526T221500Z
LOCATION:3520 86th St, Urbandale, IA 50322, United States
ROOM: Story Room
DESCRIPTION:
URL:https://urbandale.librarycalendar.com/event/afterschool-fun-25916
END:VEVENT
END:VCALENDAR
