BEGIN:VCALENDAR
VERSION:2.0
PRODID:-//Library Market//iCal Export//EN
BEGIN:VEVENT
SUMMARY:Toddler Time
UID:25922
DTSTAMP:20260424T023200Z
DTSTART:20260504T150000Z
DTEND:20260504T154500Z
LOCATION:3520 86th St, Urbandale, IA 50322, United States
ROOM: Meeting Room A/B
DESCRIPTION:Please note that we normally do a storytime cycle of three wee
 ks on and one week off (to allow for planning time). This month, we will h
 ave a longer storytime break period so that we can prepare for Summer fun,
  and so we can visit Urbandale elementary schools to promote the Summer Re
 ading Challenge and all of our exciting Summer programs!Weekday Storytime 
 Schedule: Our storytime cycle in May (and the end of April) will only be 
 two weeks; we will begin on Monday, April 27, and will end on Thursday, Ma
 y 7. 
URL:https://urbandale.librarycalendar.com/event/toddler-time-25922
END:VEVENT
END:VCALENDAR
