BEGIN:VCALENDAR
VERSION:2.0
PRODID:-//Library Market//iCal Export//EN
BEGIN:VEVENT
SUMMARY:Block Party
UID:25936
DTSTAMP:20260422T212400Z
DTSTART:20260511T143000Z
DTEND:20260511T160000Z
LOCATION:3520 86th St, Urbandale, IA 50322, United States
ROOM: Meeting Room A/B
DESCRIPTION:
URL:https://urbandale.librarycalendar.com/event/block-party-25936
END:VEVENT
END:VCALENDAR
