BEGIN:VCALENDAR
VERSION:2.0
PRODID:-//Library Market//iCal Export//EN
BEGIN:VEVENT
SUMMARY:Block Party
UID:25937
DTSTAMP:20260422T212400Z
DTSTART:20260512T230000Z
DTEND:20260513T001500Z
LOCATION:3520 86th St, Urbandale, IA 50322, United States
ROOM: Story Room
DESCRIPTION:
URL:https://urbandale.librarycalendar.com/event/block-party-25937
END:VEVENT
END:VCALENDAR
