BEGIN:VCALENDAR
VERSION:2.0
PRODID:-//Library Market//iCal Export//EN
BEGIN:VEVENT
SUMMARY:Ride Your Bike to the Library Contest!
UID:26008
DTSTAMP:20260421T191200Z
DTSTART:20260501T050000Z
DTEND:20260531T050000Z
LOCATION:3520 86th St, Urbandale, IA 50322, United States
ROOM: Library Outside
DESCRIPTION:Celebrate National Bike Month this May by riding your bike to 
 the library! Share your bike selfie with the library between May 1 - 31, 
 2026, for a chance to win a Bike World gift card. Make sure to send your s
 elfie to uploutreach@urbandale.org or tag @UrbandaleLibrary on Facebook or
  Instagram!  
URL:https://urbandale.librarycalendar.com/event/bike2026
END:VEVENT
END:VCALENDAR
